BEGIN:VCALENDAR
VERSION:2.0
PRODID:https://www.kufer.de/kuferweb / DE
METHOD:PUBLISH
CALSCALE:GREGORIAN
X-WR-TIMEZONE:Europe/Berlin
BEGIN:VTIMEZONE
TZID:Europe/Berlin
X-LIC-LOCATION:Europe/Berlin
BEGIN:DAYLIGHT
TZOFFSETFROM:+0100
TZOFFSETTO:+0200
TZNAME:CEST
DTSTART:19700329T020000
RRULE:FREQ=YEARLY;INTERVAL=1;BYDAY=-1SU;BYMONTH=3
END:DAYLIGHT
BEGIN:STANDARD
TZOFFSETFROM:+0200
TZOFFSETTO:+0100
TZNAME:CET
DTSTART:19701025T030000
RRULE:FREQ=YEARLY;INTERVAL=1;BYDAY=-1SU;BYMONTH=10
END:STANDARD
END:VTIMEZONE
BEGIN:VEVENT
DTSTAMP:20260422T124015
DTSTART;TZID=Europe/Berlin:20260803T093000
DTEND;TZID=Europe/Berlin:20260803T123000
UID:A127S1-20260803T093000@EFBWETTERAU
SUMMARY:Kinder-Sing-und-Bibel-Woche - für Kinder ab 6 Jahren (A127S1) 
LOCATION:FB, Burgkirche, In der Burg 17, 61169 Friedberg
END:VEVENT
BEGIN:VEVENT
DTSTAMP:20260422T124015
DTSTART;TZID=Europe/Berlin:20260804T093000
DTEND;TZID=Europe/Berlin:20260804T123000
UID:A127S1-20260804T093000@EFBWETTERAU
SUMMARY:Kinder-Sing-und-Bibel-Woche - für Kinder ab 6 Jahren (A127S1) 
LOCATION:FB, Burgkirche, In der Burg 17, 61169 Friedberg
END:VEVENT
BEGIN:VEVENT
DTSTAMP:20260422T124015
DTSTART;TZID=Europe/Berlin:20260805T093000
DTEND;TZID=Europe/Berlin:20260805T123000
UID:A127S1-20260805T093000@EFBWETTERAU
SUMMARY:Kinder-Sing-und-Bibel-Woche - für Kinder ab 6 Jahren (A127S1) 
LOCATION:FB, Burgkirche, In der Burg 17, 61169 Friedberg
END:VEVENT
BEGIN:VEVENT
DTSTAMP:20260422T124015
DTSTART;TZID=Europe/Berlin:20260806T093000
DTEND;TZID=Europe/Berlin:20260806T123000
UID:A127S1-20260806T093000@EFBWETTERAU
SUMMARY:Kinder-Sing-und-Bibel-Woche - für Kinder ab 6 Jahren (A127S1) 
LOCATION:FB, Burgkirche, In der Burg 17, 61169 Friedberg
END:VEVENT
BEGIN:VEVENT
DTSTAMP:20260422T124015
DTSTART;TZID=Europe/Berlin:20260807T093000
DTEND;TZID=Europe/Berlin:20260807T123000
UID:A127S1-20260807T093000@EFBWETTERAU
SUMMARY:Kinder-Sing-und-Bibel-Woche - für Kinder ab 6 Jahren (A127S1) 
LOCATION:FB, Burgkirche, In der Burg 17, 61169 Friedberg
END:VEVENT
BEGIN:VEVENT
DTSTAMP:20260422T124015
DTSTART;TZID=Europe/Berlin:20260808T093000
DTEND;TZID=Europe/Berlin:20260808T123000
UID:A127S1-20260808T093000@EFBWETTERAU
SUMMARY:Kinder-Sing-und-Bibel-Woche - für Kinder ab 6 Jahren (A127S1) 
LOCATION:FB, Burgkirche, In der Burg 17, 61169 Friedberg
END:VEVENT
BEGIN:VEVENT
DTSTAMP:20260422T124015
DTSTART;TZID=Europe/Berlin:20260809T093000
DTEND;TZID=Europe/Berlin:20260809T123000
UID:A127S1-20260809T093000@EFBWETTERAU
SUMMARY:Kinder-Sing-und-Bibel-Woche - für Kinder ab 6 Jahren (A127S1) 
LOCATION:FB, Burgkirche, In der Burg 17, 61169 Friedberg
END:VEVENT
END:VCALENDAR