BEGIN:VCALENDAR
VERSION:2.0
PRODID:https://www.kufer.de/kuferweb / DE
METHOD:PUBLISH
CALSCALE:GREGORIAN
X-WR-TIMEZONE:Europe/Berlin
BEGIN:VTIMEZONE
TZID:Europe/Berlin
X-LIC-LOCATION:Europe/Berlin
BEGIN:DAYLIGHT
TZOFFSETFROM:+0100
TZOFFSETTO:+0200
TZNAME:CEST
DTSTART:19700329T020000
RRULE:FREQ=YEARLY;INTERVAL=1;BYDAY=-1SU;BYMONTH=3
END:DAYLIGHT
BEGIN:STANDARD
TZOFFSETFROM:+0200
TZOFFSETTO:+0100
TZNAME:CET
DTSTART:19701025T030000
RRULE:FREQ=YEARLY;INTERVAL=1;BYDAY=-1SU;BYMONTH=10
END:STANDARD
END:VTIMEZONE
BEGIN:VEVENT
DTSTAMP:20260421T121829
DTSTART;TZID=Europe/Berlin:20260422T200000
DTEND;TZID=Europe/Berlin:20260422T213000
UID:A179S2-20260422T200000@EFBWETTERAU
SUMMARY:Line Dance für Fortgeschrittene (A179S2) 
LOCATION:BN - Steinfurth, Alte Pfarrscheune, , 
END:VEVENT
BEGIN:VEVENT
DTSTAMP:20260421T121829
DTSTART;TZID=Europe/Berlin:20260429T200000
DTEND;TZID=Europe/Berlin:20260429T213000
UID:A179S2-20260429T200000@EFBWETTERAU
SUMMARY:Line Dance für Fortgeschrittene (A179S2) 
LOCATION:BN - Steinfurth, Alte Pfarrscheune, , 
END:VEVENT
BEGIN:VEVENT
DTSTAMP:20260421T121829
DTSTART;TZID=Europe/Berlin:20260506T200000
DTEND;TZID=Europe/Berlin:20260506T213000
UID:A179S2-20260506T200000@EFBWETTERAU
SUMMARY:Line Dance für Fortgeschrittene (A179S2) 
LOCATION:BN - Steinfurth, Alte Pfarrscheune, , 
END:VEVENT
BEGIN:VEVENT
DTSTAMP:20260421T121829
DTSTART;TZID=Europe/Berlin:20260513T200000
DTEND;TZID=Europe/Berlin:20260513T213000
UID:A179S2-20260513T200000@EFBWETTERAU
SUMMARY:Line Dance für Fortgeschrittene (A179S2) 
LOCATION:BN - Steinfurth, Alte Pfarrscheune, , 
END:VEVENT
BEGIN:VEVENT
DTSTAMP:20260421T121829
DTSTART;TZID=Europe/Berlin:20260520T200000
DTEND;TZID=Europe/Berlin:20260520T213000
UID:A179S2-20260520T200000@EFBWETTERAU
SUMMARY:Line Dance für Fortgeschrittene (A179S2) 
LOCATION:BN - Steinfurth, Alte Pfarrscheune, , 
END:VEVENT
BEGIN:VEVENT
DTSTAMP:20260421T121829
DTSTART;TZID=Europe/Berlin:20260617T200000
DTEND;TZID=Europe/Berlin:20260617T213000
UID:A179S2-20260617T200000@EFBWETTERAU
SUMMARY:Line Dance für Fortgeschrittene (A179S2) 
LOCATION:BN - Steinfurth, Alte Pfarrscheune, , 
END:VEVENT
BEGIN:VEVENT
DTSTAMP:20260421T121829
DTSTART;TZID=Europe/Berlin:20260624T200000
DTEND;TZID=Europe/Berlin:20260624T213000
UID:A179S2-20260624T200000@EFBWETTERAU
SUMMARY:Line Dance für Fortgeschrittene (A179S2) 
LOCATION:BN - Steinfurth, Alte Pfarrscheune, , 
END:VEVENT
END:VCALENDAR