BEGIN:VCALENDAR
VERSION:2.0
PRODID:https://www.kufer.de/kuferweb / DE
METHOD:PUBLISH
CALSCALE:GREGORIAN
X-WR-TIMEZONE:Europe/Berlin
BEGIN:VTIMEZONE
TZID:Europe/Berlin
X-LIC-LOCATION:Europe/Berlin
BEGIN:DAYLIGHT
TZOFFSETFROM:+0100
TZOFFSETTO:+0200
TZNAME:CEST
DTSTART:19700329T020000
RRULE:FREQ=YEARLY;INTERVAL=1;BYDAY=-1SU;BYMONTH=3
END:DAYLIGHT
BEGIN:STANDARD
TZOFFSETFROM:+0200
TZOFFSETTO:+0100
TZNAME:CET
DTSTART:19701025T030000
RRULE:FREQ=YEARLY;INTERVAL=1;BYDAY=-1SU;BYMONTH=10
END:STANDARD
END:VTIMEZONE
BEGIN:VEVENT
DTSTAMP:20260425T223721
DTSTART;TZID=Europe/Berlin:20260416T090000
DTEND;TZID=Europe/Berlin:20260416T101500
UID:A211S2-20260416T090000@EFBWETTERAU
SUMMARY:Mit Yoga den Tag begrüßen (A211S2) 
LOCATION:BN, Gemeinderaum, Wilhelmskirche, Ernst-Ludwig-Ring 23, 61231 Bad Nauheim
END:VEVENT
BEGIN:VEVENT
DTSTAMP:20260425T223721
DTSTART;TZID=Europe/Berlin:20260423T090000
DTEND;TZID=Europe/Berlin:20260423T101500
UID:A211S2-20260423T090000@EFBWETTERAU
SUMMARY:Mit Yoga den Tag begrüßen (A211S2) 
LOCATION:BN, Gemeinderaum, Wilhelmskirche, Ernst-Ludwig-Ring 23, 61231 Bad Nauheim
END:VEVENT
BEGIN:VEVENT
DTSTAMP:20260425T223721
DTSTART;TZID=Europe/Berlin:20260430T090000
DTEND;TZID=Europe/Berlin:20260430T101500
UID:A211S2-20260430T090000@EFBWETTERAU
SUMMARY:Mit Yoga den Tag begrüßen (A211S2) 
LOCATION:BN, Gemeinderaum, Wilhelmskirche, Ernst-Ludwig-Ring 23, 61231 Bad Nauheim
END:VEVENT
BEGIN:VEVENT
DTSTAMP:20260425T223721
DTSTART;TZID=Europe/Berlin:20260507T090000
DTEND;TZID=Europe/Berlin:20260507T101500
UID:A211S2-20260507T090000@EFBWETTERAU
SUMMARY:Mit Yoga den Tag begrüßen (A211S2) 
LOCATION:BN, Gemeinderaum, Wilhelmskirche, Ernst-Ludwig-Ring 23, 61231 Bad Nauheim
END:VEVENT
BEGIN:VEVENT
DTSTAMP:20260425T223721
DTSTART;TZID=Europe/Berlin:20260521T090000
DTEND;TZID=Europe/Berlin:20260521T101500
UID:A211S2-20260521T090000@EFBWETTERAU
SUMMARY:Mit Yoga den Tag begrüßen (A211S2) 
LOCATION:BN, Gemeinderaum, Wilhelmskirche, Ernst-Ludwig-Ring 23, 61231 Bad Nauheim
END:VEVENT
BEGIN:VEVENT
DTSTAMP:20260425T223721
DTSTART;TZID=Europe/Berlin:20260528T090000
DTEND;TZID=Europe/Berlin:20260528T101500
UID:A211S2-20260528T090000@EFBWETTERAU
SUMMARY:Mit Yoga den Tag begrüßen (A211S2) 
LOCATION:BN, Gemeinderaum, Wilhelmskirche, Ernst-Ludwig-Ring 23, 61231 Bad Nauheim
END:VEVENT
BEGIN:VEVENT
DTSTAMP:20260425T223721
DTSTART;TZID=Europe/Berlin:20260611T090000
DTEND;TZID=Europe/Berlin:20260611T101500
UID:A211S2-20260611T090000@EFBWETTERAU
SUMMARY:Mit Yoga den Tag begrüßen (A211S2) 
LOCATION:BN, Gemeinderaum, Wilhelmskirche, Ernst-Ludwig-Ring 23, 61231 Bad Nauheim
END:VEVENT
BEGIN:VEVENT
DTSTAMP:20260425T223721
DTSTART;TZID=Europe/Berlin:20260618T090000
DTEND;TZID=Europe/Berlin:20260618T101500
UID:A211S2-20260618T090000@EFBWETTERAU
SUMMARY:Mit Yoga den Tag begrüßen (A211S2) 
LOCATION:BN, Gemeinderaum, Wilhelmskirche, Ernst-Ludwig-Ring 23, 61231 Bad Nauheim
END:VEVENT
BEGIN:VEVENT
DTSTAMP:20260425T223721
DTSTART;TZID=Europe/Berlin:20260625T090000
DTEND;TZID=Europe/Berlin:20260625T101500
UID:A211S2-20260625T090000@EFBWETTERAU
SUMMARY:Mit Yoga den Tag begrüßen (A211S2) 
LOCATION:BN, Gemeinderaum, Wilhelmskirche, Ernst-Ludwig-Ring 23, 61231 Bad Nauheim
END:VEVENT
END:VCALENDAR