BEGIN:VCALENDAR
VERSION:2.0
PRODID:https://www.kufer.de/kuferweb / DE
METHOD:PUBLISH
CALSCALE:GREGORIAN
X-WR-TIMEZONE:Europe/Berlin
BEGIN:VTIMEZONE
TZID:Europe/Berlin
X-LIC-LOCATION:Europe/Berlin
BEGIN:DAYLIGHT
TZOFFSETFROM:+0100
TZOFFSETTO:+0200
TZNAME:CEST
DTSTART:19700329T020000
RRULE:FREQ=YEARLY;INTERVAL=1;BYDAY=-1SU;BYMONTH=3
END:DAYLIGHT
BEGIN:STANDARD
TZOFFSETFROM:+0200
TZOFFSETTO:+0100
TZNAME:CET
DTSTART:19701025T030000
RRULE:FREQ=YEARLY;INTERVAL=1;BYDAY=-1SU;BYMONTH=10
END:STANDARD
END:VTIMEZONE
BEGIN:VEVENT
DTSTAMP:20260421T152952
DTSTART;TZID=Europe/Berlin:20260411T110000
DTEND;TZID=Europe/Berlin:20260411T120000
UID:A366S3-20260411T110000@EFBWETTERAU
SUMMARY:Aufbauschwimmkurs zum Seepferdchen ab 5,5 Jahren (A366S3) 
LOCATION:BB, Hallenbad, Wetzlarer Str. 33, 35510 Butzbach
END:VEVENT
BEGIN:VEVENT
DTSTAMP:20260421T152952
DTSTART;TZID=Europe/Berlin:20260418T110000
DTEND;TZID=Europe/Berlin:20260418T120000
UID:A366S3-20260418T110000@EFBWETTERAU
SUMMARY:Aufbauschwimmkurs zum Seepferdchen ab 5,5 Jahren (A366S3) 
LOCATION:BB, Hallenbad, Wetzlarer Str. 33, 35510 Butzbach
END:VEVENT
BEGIN:VEVENT
DTSTAMP:20260421T152952
DTSTART;TZID=Europe/Berlin:20260425T110000
DTEND;TZID=Europe/Berlin:20260425T120000
UID:A366S3-20260425T110000@EFBWETTERAU
SUMMARY:Aufbauschwimmkurs zum Seepferdchen ab 5,5 Jahren (A366S3) 
LOCATION:BB, Hallenbad, Wetzlarer Str. 33, 35510 Butzbach
END:VEVENT
BEGIN:VEVENT
DTSTAMP:20260421T152952
DTSTART;TZID=Europe/Berlin:20260509T110000
DTEND;TZID=Europe/Berlin:20260509T120000
UID:A366S3-20260509T110000@EFBWETTERAU
SUMMARY:Aufbauschwimmkurs zum Seepferdchen ab 5,5 Jahren (A366S3) 
LOCATION:BB, Hallenbad, Wetzlarer Str. 33, 35510 Butzbach
END:VEVENT
BEGIN:VEVENT
DTSTAMP:20260421T152952
DTSTART;TZID=Europe/Berlin:20260523T110000
DTEND;TZID=Europe/Berlin:20260523T120000
UID:A366S3-20260523T110000@EFBWETTERAU
SUMMARY:Aufbauschwimmkurs zum Seepferdchen ab 5,5 Jahren (A366S3) 
LOCATION:BB, Hallenbad, Wetzlarer Str. 33, 35510 Butzbach
END:VEVENT
BEGIN:VEVENT
DTSTAMP:20260421T152952
DTSTART;TZID=Europe/Berlin:20260530T110000
DTEND;TZID=Europe/Berlin:20260530T120000
UID:A366S3-20260530T110000@EFBWETTERAU
SUMMARY:Aufbauschwimmkurs zum Seepferdchen ab 5,5 Jahren (A366S3) 
LOCATION:BB, Hallenbad, Wetzlarer Str. 33, 35510 Butzbach
END:VEVENT
BEGIN:VEVENT
DTSTAMP:20260421T152952
DTSTART;TZID=Europe/Berlin:20260606T110000
DTEND;TZID=Europe/Berlin:20260606T120000
UID:A366S3-20260606T110000@EFBWETTERAU
SUMMARY:Aufbauschwimmkurs zum Seepferdchen ab 5,5 Jahren (A366S3) 
LOCATION:BB, Hallenbad, Wetzlarer Str. 33, 35510 Butzbach
END:VEVENT
BEGIN:VEVENT
DTSTAMP:20260421T152952
DTSTART;TZID=Europe/Berlin:20260613T110000
DTEND;TZID=Europe/Berlin:20260613T120000
UID:A366S3-20260613T110000@EFBWETTERAU
SUMMARY:Aufbauschwimmkurs zum Seepferdchen ab 5,5 Jahren (A366S3) 
LOCATION:BB, Hallenbad, Wetzlarer Str. 33, 35510 Butzbach
END:VEVENT
BEGIN:VEVENT
DTSTAMP:20260421T152952
DTSTART;TZID=Europe/Berlin:20260620T110000
DTEND;TZID=Europe/Berlin:20260620T120000
UID:A366S3-20260620T110000@EFBWETTERAU
SUMMARY:Aufbauschwimmkurs zum Seepferdchen ab 5,5 Jahren (A366S3) 
LOCATION:BB, Hallenbad, Wetzlarer Str. 33, 35510 Butzbach
END:VEVENT
BEGIN:VEVENT
DTSTAMP:20260421T152952
DTSTART;TZID=Europe/Berlin:20260627T110000
DTEND;TZID=Europe/Berlin:20260627T120000
UID:A366S3-20260627T110000@EFBWETTERAU
SUMMARY:Aufbauschwimmkurs zum Seepferdchen ab 5,5 Jahren (A366S3) 
LOCATION:BB, Hallenbad, Wetzlarer Str. 33, 35510 Butzbach
END:VEVENT
END:VCALENDAR