BEGIN:VCALENDAR
VERSION:2.0
PRODID:https://www.kufer.de/kuferweb / DE
METHOD:PUBLISH
CALSCALE:GREGORIAN
X-WR-TIMEZONE:Europe/Berlin
BEGIN:VTIMEZONE
TZID:Europe/Berlin
X-LIC-LOCATION:Europe/Berlin
BEGIN:DAYLIGHT
TZOFFSETFROM:+0100
TZOFFSETTO:+0200
TZNAME:CEST
DTSTART:19700329T020000
RRULE:FREQ=YEARLY;INTERVAL=1;BYDAY=-1SU;BYMONTH=3
END:DAYLIGHT
BEGIN:STANDARD
TZOFFSETFROM:+0200
TZOFFSETTO:+0100
TZNAME:CET
DTSTART:19701025T030000
RRULE:FREQ=YEARLY;INTERVAL=1;BYDAY=-1SU;BYMONTH=10
END:STANDARD
END:VTIMEZONE
BEGIN:VEVENT
DTSTAMP:20260421T215916
DTSTART;TZID=Europe/Berlin:20260519T133000
DTEND;TZID=Europe/Berlin:20260519T143000
UID:A403S3-20260519T133000@EFBWETTERAU
SUMMARY:Krabbelspiele 4 - 8  Monate (A403S3) 
LOCATION:BB, Familienzentrum, Schillerstraße 18, Schillerstr.18, 35510 Butzbach 
END:VEVENT
BEGIN:VEVENT
DTSTAMP:20260421T215916
DTSTART;TZID=Europe/Berlin:20260526T133000
DTEND;TZID=Europe/Berlin:20260526T143000
UID:A403S3-20260526T133000@EFBWETTERAU
SUMMARY:Krabbelspiele 4 - 8  Monate (A403S3) 
LOCATION:BB, Familienzentrum, Schillerstraße 18, Schillerstr.18, 35510 Butzbach 
END:VEVENT
BEGIN:VEVENT
DTSTAMP:20260421T215916
DTSTART;TZID=Europe/Berlin:20260602T133000
DTEND;TZID=Europe/Berlin:20260602T143000
UID:A403S3-20260602T133000@EFBWETTERAU
SUMMARY:Krabbelspiele 4 - 8  Monate (A403S3) 
LOCATION:BB, Familienzentrum, Schillerstraße 18, Schillerstr.18, 35510 Butzbach 
END:VEVENT
BEGIN:VEVENT
DTSTAMP:20260421T215916
DTSTART;TZID=Europe/Berlin:20260609T133000
DTEND;TZID=Europe/Berlin:20260609T143000
UID:A403S3-20260609T133000@EFBWETTERAU
SUMMARY:Krabbelspiele 4 - 8  Monate (A403S3) 
LOCATION:BB, Familienzentrum, Schillerstraße 18, Schillerstr.18, 35510 Butzbach 
END:VEVENT
BEGIN:VEVENT
DTSTAMP:20260421T215916
DTSTART;TZID=Europe/Berlin:20260616T133000
DTEND;TZID=Europe/Berlin:20260616T143000
UID:A403S3-20260616T133000@EFBWETTERAU
SUMMARY:Krabbelspiele 4 - 8  Monate (A403S3) 
LOCATION:BB, Familienzentrum, Schillerstraße 18, Schillerstr.18, 35510 Butzbach 
END:VEVENT
END:VCALENDAR