BEGIN:VCALENDAR
VERSION:2.0
PRODID:https://www.kufer.de/kuferweb / DE
METHOD:PUBLISH
CALSCALE:GREGORIAN
X-WR-TIMEZONE:Europe/Berlin
BEGIN:VTIMEZONE
TZID:Europe/Berlin
X-LIC-LOCATION:Europe/Berlin
BEGIN:DAYLIGHT
TZOFFSETFROM:+0100
TZOFFSETTO:+0200
TZNAME:CEST
DTSTART:19700329T020000
RRULE:FREQ=YEARLY;INTERVAL=1;BYDAY=-1SU;BYMONTH=3
END:DAYLIGHT
BEGIN:STANDARD
TZOFFSETFROM:+0200
TZOFFSETTO:+0100
TZNAME:CET
DTSTART:19701025T030000
RRULE:FREQ=YEARLY;INTERVAL=1;BYDAY=-1SU;BYMONTH=10
END:STANDARD
END:VTIMEZONE
BEGIN:VEVENT
DTSTAMP:20260421T104028
DTSTART;TZID=Europe/Berlin:20260417T180000
DTEND;TZID=Europe/Berlin:20260417T190000
UID:A627S7-20260417T180000@EFBWETTERAU
SUMMARY:Qigong (A627S7) 
LOCATION:Ranstadt-Ober-Mockstadt, Ev. Gemeindehaus, Obergasse 6, 63691 Ranstadt-Ober-Mockstadt
END:VEVENT
BEGIN:VEVENT
DTSTAMP:20260421T104028
DTSTART;TZID=Europe/Berlin:20260424T180000
DTEND;TZID=Europe/Berlin:20260424T190000
UID:A627S7-20260424T180000@EFBWETTERAU
SUMMARY:Qigong (A627S7) 
LOCATION:Ranstadt-Ober-Mockstadt, Ev. Gemeindehaus, Obergasse 6, 63691 Ranstadt-Ober-Mockstadt
END:VEVENT
BEGIN:VEVENT
DTSTAMP:20260421T104028
DTSTART;TZID=Europe/Berlin:20260508T180000
DTEND;TZID=Europe/Berlin:20260508T190000
UID:A627S7-20260508T180000@EFBWETTERAU
SUMMARY:Qigong (A627S7) 
LOCATION:Ranstadt-Ober-Mockstadt, Ev. Gemeindehaus, Obergasse 6, 63691 Ranstadt-Ober-Mockstadt
END:VEVENT
BEGIN:VEVENT
DTSTAMP:20260421T104028
DTSTART;TZID=Europe/Berlin:20260515T180000
DTEND;TZID=Europe/Berlin:20260515T190000
UID:A627S7-20260515T180000@EFBWETTERAU
SUMMARY:Qigong (A627S7) 
LOCATION:Ranstadt-Ober-Mockstadt, Ev. Gemeindehaus, Obergasse 6, 63691 Ranstadt-Ober-Mockstadt
END:VEVENT
BEGIN:VEVENT
DTSTAMP:20260421T104028
DTSTART;TZID=Europe/Berlin:20260522T180000
DTEND;TZID=Europe/Berlin:20260522T190000
UID:A627S7-20260522T180000@EFBWETTERAU
SUMMARY:Qigong (A627S7) 
LOCATION:Ranstadt-Ober-Mockstadt, Ev. Gemeindehaus, Obergasse 6, 63691 Ranstadt-Ober-Mockstadt
END:VEVENT
BEGIN:VEVENT
DTSTAMP:20260421T104028
DTSTART;TZID=Europe/Berlin:20260529T180000
DTEND;TZID=Europe/Berlin:20260529T190000
UID:A627S7-20260529T180000@EFBWETTERAU
SUMMARY:Qigong (A627S7) 
LOCATION:Ranstadt-Ober-Mockstadt, Ev. Gemeindehaus, Obergasse 6, 63691 Ranstadt-Ober-Mockstadt
END:VEVENT
BEGIN:VEVENT
DTSTAMP:20260421T104028
DTSTART;TZID=Europe/Berlin:20260605T180000
DTEND;TZID=Europe/Berlin:20260605T190000
UID:A627S7-20260605T180000@EFBWETTERAU
SUMMARY:Qigong (A627S7) 
LOCATION:Ranstadt-Ober-Mockstadt, Ev. Gemeindehaus, Obergasse 6, 63691 Ranstadt-Ober-Mockstadt
END:VEVENT
BEGIN:VEVENT
DTSTAMP:20260421T104028
DTSTART;TZID=Europe/Berlin:20260612T180000
DTEND;TZID=Europe/Berlin:20260612T190000
UID:A627S7-20260612T180000@EFBWETTERAU
SUMMARY:Qigong (A627S7) 
LOCATION:Ranstadt-Ober-Mockstadt, Ev. Gemeindehaus, Obergasse 6, 63691 Ranstadt-Ober-Mockstadt
END:VEVENT
BEGIN:VEVENT
DTSTAMP:20260421T104028
DTSTART;TZID=Europe/Berlin:20260619T180000
DTEND;TZID=Europe/Berlin:20260619T190000
UID:A627S7-20260619T180000@EFBWETTERAU
SUMMARY:Qigong (A627S7) 
LOCATION:Ranstadt-Ober-Mockstadt, Ev. Gemeindehaus, Obergasse 6, 63691 Ranstadt-Ober-Mockstadt
END:VEVENT
BEGIN:VEVENT
DTSTAMP:20260421T104028
DTSTART;TZID=Europe/Berlin:20260626T180000
DTEND;TZID=Europe/Berlin:20260626T190000
UID:A627S7-20260626T180000@EFBWETTERAU
SUMMARY:Qigong (A627S7) 
LOCATION:Ranstadt-Ober-Mockstadt, Ev. Gemeindehaus, Obergasse 6, 63691 Ranstadt-Ober-Mockstadt
END:VEVENT
END:VCALENDAR