BEGIN:VCALENDAR
VERSION:2.0
PRODID:https://www.kufer.de/kuferweb / DE
METHOD:PUBLISH
CALSCALE:GREGORIAN
X-WR-TIMEZONE:Europe/Berlin
BEGIN:VTIMEZONE
TZID:Europe/Berlin
X-LIC-LOCATION:Europe/Berlin
BEGIN:DAYLIGHT
TZOFFSETFROM:+0100
TZOFFSETTO:+0200
TZNAME:CEST
DTSTART:19700329T020000
RRULE:FREQ=YEARLY;INTERVAL=1;BYDAY=-1SU;BYMONTH=3
END:DAYLIGHT
BEGIN:STANDARD
TZOFFSETFROM:+0200
TZOFFSETTO:+0100
TZNAME:CET
DTSTART:19701025T030000
RRULE:FREQ=YEARLY;INTERVAL=1;BYDAY=-1SU;BYMONTH=10
END:STANDARD
END:VTIMEZONE
BEGIN:VEVENT
DTSTAMP:20260420T133749
DTSTART;TZID=Europe/Berlin:20260522T104500
DTEND;TZID=Europe/Berlin:20260522T114500
UID:A63S1-20260522T104500@EFBWETTERAU
SUMMARY:Mehr Bewegung – weniger Schmerzen (A63S1) 
LOCATION:FB, Kaiserstraße 144, Raum 2, Kaiserstrasse 144, 61169 Friedberg
END:VEVENT
BEGIN:VEVENT
DTSTAMP:20260420T133749
DTSTART;TZID=Europe/Berlin:20260529T104500
DTEND;TZID=Europe/Berlin:20260529T114500
UID:A63S1-20260529T104500@EFBWETTERAU
SUMMARY:Mehr Bewegung – weniger Schmerzen (A63S1) 
LOCATION:FB, Kaiserstraße 144, Raum 2, Kaiserstrasse 144, 61169 Friedberg
END:VEVENT
BEGIN:VEVENT
DTSTAMP:20260420T133749
DTSTART;TZID=Europe/Berlin:20260605T104500
DTEND;TZID=Europe/Berlin:20260605T114500
UID:A63S1-20260605T104500@EFBWETTERAU
SUMMARY:Mehr Bewegung – weniger Schmerzen (A63S1) 
LOCATION:FB, Kaiserstraße 144, Raum 2, Kaiserstrasse 144, 61169 Friedberg
END:VEVENT
BEGIN:VEVENT
DTSTAMP:20260420T133749
DTSTART;TZID=Europe/Berlin:20260612T104500
DTEND;TZID=Europe/Berlin:20260612T114500
UID:A63S1-20260612T104500@EFBWETTERAU
SUMMARY:Mehr Bewegung – weniger Schmerzen (A63S1) 
LOCATION:FB, Kaiserstraße 144, Raum 2, Kaiserstrasse 144, 61169 Friedberg
END:VEVENT
BEGIN:VEVENT
DTSTAMP:20260420T133749
DTSTART;TZID=Europe/Berlin:20260619T104500
DTEND;TZID=Europe/Berlin:20260619T114500
UID:A63S1-20260619T104500@EFBWETTERAU
SUMMARY:Mehr Bewegung – weniger Schmerzen (A63S1) 
LOCATION:FB, Kaiserstraße 144, Raum 2, Kaiserstrasse 144, 61169 Friedberg
END:VEVENT
END:VCALENDAR