BEGIN:VCALENDAR
VERSION:2.0
PRODID:https://www.kufer.de/kuferweb / DE
METHOD:PUBLISH
CALSCALE:GREGORIAN
X-WR-TIMEZONE:Europe/Berlin
BEGIN:VTIMEZONE
TZID:Europe/Berlin
X-LIC-LOCATION:Europe/Berlin
BEGIN:DAYLIGHT
TZOFFSETFROM:+0100
TZOFFSETTO:+0200
TZNAME:CEST
DTSTART:19700329T020000
RRULE:FREQ=YEARLY;INTERVAL=1;BYDAY=-1SU;BYMONTH=3
END:DAYLIGHT
BEGIN:STANDARD
TZOFFSETFROM:+0200
TZOFFSETTO:+0100
TZNAME:CET
DTSTART:19701025T030000
RRULE:FREQ=YEARLY;INTERVAL=1;BYDAY=-1SU;BYMONTH=10
END:STANDARD
END:VTIMEZONE
BEGIN:VEVENT
DTSTAMP:20260421T152935
DTSTART;TZID=Europe/Berlin:20260416T201500
DTEND;TZID=Europe/Berlin:20260416T211500
UID:A69S1-20260416T201500@EFBWETTERAU
SUMMARY:Yin Yoga - Finde innere Ruhe und Balance (A69S1) 
LOCATION: , , 
END:VEVENT
BEGIN:VEVENT
DTSTAMP:20260421T152935
DTSTART;TZID=Europe/Berlin:20260423T201500
DTEND;TZID=Europe/Berlin:20260423T211500
UID:A69S1-20260423T201500@EFBWETTERAU
SUMMARY:Yin Yoga - Finde innere Ruhe und Balance (A69S1) 
LOCATION: , , 
END:VEVENT
BEGIN:VEVENT
DTSTAMP:20260421T152935
DTSTART;TZID=Europe/Berlin:20260430T201500
DTEND;TZID=Europe/Berlin:20260430T211500
UID:A69S1-20260430T201500@EFBWETTERAU
SUMMARY:Yin Yoga - Finde innere Ruhe und Balance (A69S1) 
LOCATION: , , 
END:VEVENT
BEGIN:VEVENT
DTSTAMP:20260421T152935
DTSTART;TZID=Europe/Berlin:20260507T201500
DTEND;TZID=Europe/Berlin:20260507T211500
UID:A69S1-20260507T201500@EFBWETTERAU
SUMMARY:Yin Yoga - Finde innere Ruhe und Balance (A69S1) 
LOCATION: , , 
END:VEVENT
BEGIN:VEVENT
DTSTAMP:20260421T152935
DTSTART;TZID=Europe/Berlin:20260521T201500
DTEND;TZID=Europe/Berlin:20260521T211500
UID:A69S1-20260521T201500@EFBWETTERAU
SUMMARY:Yin Yoga - Finde innere Ruhe und Balance (A69S1) 
LOCATION: , , 
END:VEVENT
BEGIN:VEVENT
DTSTAMP:20260421T152935
DTSTART;TZID=Europe/Berlin:20260528T201500
DTEND;TZID=Europe/Berlin:20260528T211500
UID:A69S1-20260528T201500@EFBWETTERAU
SUMMARY:Yin Yoga - Finde innere Ruhe und Balance (A69S1) 
LOCATION: , , 
END:VEVENT
BEGIN:VEVENT
DTSTAMP:20260421T152935
DTSTART;TZID=Europe/Berlin:20260611T201500
DTEND;TZID=Europe/Berlin:20260611T211500
UID:A69S1-20260611T201500@EFBWETTERAU
SUMMARY:Yin Yoga - Finde innere Ruhe und Balance (A69S1) 
LOCATION: , , 
END:VEVENT
BEGIN:VEVENT
DTSTAMP:20260421T152935
DTSTART;TZID=Europe/Berlin:20260618T201500
DTEND;TZID=Europe/Berlin:20260618T211500
UID:A69S1-20260618T201500@EFBWETTERAU
SUMMARY:Yin Yoga - Finde innere Ruhe und Balance (A69S1) 
LOCATION: , , 
END:VEVENT
BEGIN:VEVENT
DTSTAMP:20260421T152935
DTSTART;TZID=Europe/Berlin:20260625T201500
DTEND;TZID=Europe/Berlin:20260625T211500
UID:A69S1-20260625T201500@EFBWETTERAU
SUMMARY:Yin Yoga - Finde innere Ruhe und Balance (A69S1) 
LOCATION: , , 
END:VEVENT
END:VCALENDAR