BEGIN:VCALENDAR
VERSION:2.0
PRODID:https://www.kufer.de/kuferweb / DE
METHOD:PUBLISH
CALSCALE:GREGORIAN
X-WR-TIMEZONE:Europe/Berlin
BEGIN:VTIMEZONE
TZID:Europe/Berlin
X-LIC-LOCATION:Europe/Berlin
BEGIN:DAYLIGHT
TZOFFSETFROM:+0100
TZOFFSETTO:+0200
TZNAME:CEST
DTSTART:19700329T020000
RRULE:FREQ=YEARLY;INTERVAL=1;BYDAY=-1SU;BYMONTH=3
END:DAYLIGHT
BEGIN:STANDARD
TZOFFSETFROM:+0200
TZOFFSETTO:+0100
TZNAME:CET
DTSTART:19701025T030000
RRULE:FREQ=YEARLY;INTERVAL=1;BYDAY=-1SU;BYMONTH=10
END:STANDARD
END:VTIMEZONE
BEGIN:VEVENT
DTSTAMP:20260421T103929
DTSTART;TZID=Europe/Berlin:20260424T200000
DTEND;TZID=Europe/Berlin:20260424T213000
UID:BFB14-20260424T200000@EFBWETTERAU
SUMMARY:Pizza und Bibel teilen (BFB14) 
LOCATION:Stadtkirche Friedberg, , 
END:VEVENT
BEGIN:VEVENT
DTSTAMP:20260421T103929
DTSTART;TZID=Europe/Berlin:20260529T200000
DTEND;TZID=Europe/Berlin:20260529T213000
UID:BFB14-20260529T200000@EFBWETTERAU
SUMMARY:Pizza und Bibel teilen (BFB14) 
LOCATION:Stadtkirche Friedberg, , 
END:VEVENT
BEGIN:VEVENT
DTSTAMP:20260421T103929
DTSTART;TZID=Europe/Berlin:20260626T200000
DTEND;TZID=Europe/Berlin:20260626T213000
UID:BFB14-20260626T200000@EFBWETTERAU
SUMMARY:Pizza und Bibel teilen (BFB14) 
LOCATION:Stadtkirche Friedberg, , 
END:VEVENT
END:VCALENDAR