BEGIN:VCALENDAR
VERSION:2.0
PRODID:https://www.kufer.de/kuferweb / DE
METHOD:PUBLISH
CALSCALE:GREGORIAN
X-WR-TIMEZONE:Europe/Berlin
BEGIN:VTIMEZONE
TZID:Europe/Berlin
X-LIC-LOCATION:Europe/Berlin
BEGIN:DAYLIGHT
TZOFFSETFROM:+0100
TZOFFSETTO:+0200
TZNAME:CEST
DTSTART:19700329T020000
RRULE:FREQ=YEARLY;INTERVAL=1;BYDAY=-1SU;BYMONTH=3
END:DAYLIGHT
BEGIN:STANDARD
TZOFFSETFROM:+0200
TZOFFSETTO:+0100
TZNAME:CET
DTSTART:19701025T030000
RRULE:FREQ=YEARLY;INTERVAL=1;BYDAY=-1SU;BYMONTH=10
END:STANDARD
END:VTIMEZONE
BEGIN:VEVENT
DTSTAMP:20260421T103928
DTSTART;TZID=Europe/Berlin:20260818T193000
DTEND;TZID=Europe/Berlin:20260818T210000
UID:BFB301-20260818T193000@EFBWETTERAU
SUMMARY:Gesprächskreis "Sternenkinder" (BFB301) 
LOCATION:FB, Kaiserstraße 144, Raum der Stille, Kaiserstraße 144, 61169 Friedberg
END:VEVENT
BEGIN:VEVENT
DTSTAMP:20260421T103928
DTSTART;TZID=Europe/Berlin:20260915T193000
DTEND;TZID=Europe/Berlin:20260915T210000
UID:BFB301-20260915T193000@EFBWETTERAU
SUMMARY:Gesprächskreis "Sternenkinder" (BFB301) 
LOCATION:FB, Kaiserstraße 144, Raum der Stille, Kaiserstraße 144, 61169 Friedberg
END:VEVENT
BEGIN:VEVENT
DTSTAMP:20260421T103928
DTSTART;TZID=Europe/Berlin:20261020T193000
DTEND;TZID=Europe/Berlin:20261020T210000
UID:BFB301-20261020T193000@EFBWETTERAU
SUMMARY:Gesprächskreis "Sternenkinder" (BFB301) 
LOCATION:FB, Kaiserstraße 144, Raum der Stille, Kaiserstraße 144, 61169 Friedberg
END:VEVENT
BEGIN:VEVENT
DTSTAMP:20260421T103928
DTSTART;TZID=Europe/Berlin:20261117T193000
DTEND;TZID=Europe/Berlin:20261117T210000
UID:BFB301-20261117T193000@EFBWETTERAU
SUMMARY:Gesprächskreis "Sternenkinder" (BFB301) 
LOCATION:FB, Kaiserstraße 144, Raum der Stille, Kaiserstraße 144, 61169 Friedberg
END:VEVENT
BEGIN:VEVENT
DTSTAMP:20260421T103928
DTSTART;TZID=Europe/Berlin:20261215T193000
DTEND;TZID=Europe/Berlin:20261215T210000
UID:BFB301-20261215T193000@EFBWETTERAU
SUMMARY:Gesprächskreis "Sternenkinder" (BFB301) 
LOCATION:FB, Kaiserstraße 144, Raum der Stille, Kaiserstraße 144, 61169 Friedberg
END:VEVENT
END:VCALENDAR