BEGIN:VCALENDAR
VERSION:2.0
PRODID:https://www.kufer.de/kuferweb / DE
METHOD:PUBLISH
CALSCALE:GREGORIAN
X-WR-TIMEZONE:Europe/Berlin
BEGIN:VTIMEZONE
TZID:Europe/Berlin
X-LIC-LOCATION:Europe/Berlin
BEGIN:DAYLIGHT
TZOFFSETFROM:+0100
TZOFFSETTO:+0200
TZNAME:CEST
DTSTART:19700329T020000
RRULE:FREQ=YEARLY;INTERVAL=1;BYDAY=-1SU;BYMONTH=3
END:DAYLIGHT
BEGIN:STANDARD
TZOFFSETFROM:+0200
TZOFFSETTO:+0100
TZNAME:CET
DTSTART:19701025T030000
RRULE:FREQ=YEARLY;INTERVAL=1;BYDAY=-1SU;BYMONTH=10
END:STANDARD
END:VTIMEZONE
BEGIN:VEVENT
DTSTAMP:20260421T121833
DTSTART;TZID=Europe/Berlin:20260415T093000
DTEND;TZID=Europe/Berlin:20260415T113000
UID:BOM538-20260415T093000@EFBWETTERAU
SUMMARY:Elterncafé mit Kindern (BOM538) 
LOCATION:61239 Ober Mörlen Nauheimerstr.18, , 
END:VEVENT
BEGIN:VEVENT
DTSTAMP:20260421T121833
DTSTART;TZID=Europe/Berlin:20260422T093000
DTEND;TZID=Europe/Berlin:20260422T113000
UID:BOM538-20260422T093000@EFBWETTERAU
SUMMARY:Elterncafé mit Kindern (BOM538) 
LOCATION:61239 Ober Mörlen Nauheimerstr.18, , 
END:VEVENT
BEGIN:VEVENT
DTSTAMP:20260421T121833
DTSTART;TZID=Europe/Berlin:20260429T093000
DTEND;TZID=Europe/Berlin:20260429T113000
UID:BOM538-20260429T093000@EFBWETTERAU
SUMMARY:Elterncafé mit Kindern (BOM538) 
LOCATION:61239 Ober Mörlen Nauheimerstr.18, , 
END:VEVENT
BEGIN:VEVENT
DTSTAMP:20260421T121833
DTSTART;TZID=Europe/Berlin:20260506T093000
DTEND;TZID=Europe/Berlin:20260506T113000
UID:BOM538-20260506T093000@EFBWETTERAU
SUMMARY:Elterncafé mit Kindern (BOM538) 
LOCATION:61239 Ober Mörlen Nauheimerstr.18, , 
END:VEVENT
BEGIN:VEVENT
DTSTAMP:20260421T121833
DTSTART;TZID=Europe/Berlin:20260513T093000
DTEND;TZID=Europe/Berlin:20260513T113000
UID:BOM538-20260513T093000@EFBWETTERAU
SUMMARY:Elterncafé mit Kindern (BOM538) 
LOCATION:61239 Ober Mörlen Nauheimerstr.18, , 
END:VEVENT
BEGIN:VEVENT
DTSTAMP:20260421T121833
DTSTART;TZID=Europe/Berlin:20260520T093000
DTEND;TZID=Europe/Berlin:20260520T113000
UID:BOM538-20260520T093000@EFBWETTERAU
SUMMARY:Elterncafé mit Kindern (BOM538) 
LOCATION:61239 Ober Mörlen Nauheimerstr.18, , 
END:VEVENT
BEGIN:VEVENT
DTSTAMP:20260421T121833
DTSTART;TZID=Europe/Berlin:20260527T093000
DTEND;TZID=Europe/Berlin:20260527T113000
UID:BOM538-20260527T093000@EFBWETTERAU
SUMMARY:Elterncafé mit Kindern (BOM538) 
LOCATION:61239 Ober Mörlen Nauheimerstr.18, , 
END:VEVENT
BEGIN:VEVENT
DTSTAMP:20260421T121833
DTSTART;TZID=Europe/Berlin:20260603T093000
DTEND;TZID=Europe/Berlin:20260603T113000
UID:BOM538-20260603T093000@EFBWETTERAU
SUMMARY:Elterncafé mit Kindern (BOM538) 
LOCATION:61239 Ober Mörlen Nauheimerstr.18, , 
END:VEVENT
BEGIN:VEVENT
DTSTAMP:20260421T121833
DTSTART;TZID=Europe/Berlin:20260610T093000
DTEND;TZID=Europe/Berlin:20260610T113000
UID:BOM538-20260610T093000@EFBWETTERAU
SUMMARY:Elterncafé mit Kindern (BOM538) 
LOCATION:61239 Ober Mörlen Nauheimerstr.18, , 
END:VEVENT
BEGIN:VEVENT
DTSTAMP:20260421T121833
DTSTART;TZID=Europe/Berlin:20260617T093000
DTEND;TZID=Europe/Berlin:20260617T113000
UID:BOM538-20260617T093000@EFBWETTERAU
SUMMARY:Elterncafé mit Kindern (BOM538) 
LOCATION:61239 Ober Mörlen Nauheimerstr.18, , 
END:VEVENT
BEGIN:VEVENT
DTSTAMP:20260421T121833
DTSTART;TZID=Europe/Berlin:20260624T093000
DTEND;TZID=Europe/Berlin:20260624T113000
UID:BOM538-20260624T093000@EFBWETTERAU
SUMMARY:Elterncafé mit Kindern (BOM538) 
LOCATION:61239 Ober Mörlen Nauheimerstr.18, , 
END:VEVENT
END:VCALENDAR