BEGIN:VCALENDAR
VERSION:2.0
PRODID:https://www.kufer.de/kuferweb / DE
METHOD:PUBLISH
CALSCALE:GREGORIAN
X-WR-TIMEZONE:Europe/Berlin
BEGIN:VTIMEZONE
TZID:Europe/Berlin
X-LIC-LOCATION:Europe/Berlin
BEGIN:DAYLIGHT
TZOFFSETFROM:+0100
TZOFFSETTO:+0200
TZNAME:CEST
DTSTART:19700329T020000
RRULE:FREQ=YEARLY;INTERVAL=1;BYDAY=-1SU;BYMONTH=3
END:DAYLIGHT
BEGIN:STANDARD
TZOFFSETFROM:+0200
TZOFFSETTO:+0100
TZNAME:CET
DTSTART:19701025T030000
RRULE:FREQ=YEARLY;INTERVAL=1;BYDAY=-1SU;BYMONTH=10
END:STANDARD
END:VTIMEZONE
BEGIN:VEVENT
DTSTAMP:20260421T121827
DTSTART;TZID=Europe/Berlin:20260812T093000
DTEND;TZID=Europe/Berlin:20260812T113000
UID:BOM5381-20260812T093000@EFBWETTERAU
SUMMARY:Elterncafé mit Kindern (BOM5381) 
LOCATION:61239 Ober Mörlen Nauheimerstr.18, , 
END:VEVENT
BEGIN:VEVENT
DTSTAMP:20260421T121827
DTSTART;TZID=Europe/Berlin:20260819T093000
DTEND;TZID=Europe/Berlin:20260819T113000
UID:BOM5381-20260819T093000@EFBWETTERAU
SUMMARY:Elterncafé mit Kindern (BOM5381) 
LOCATION:61239 Ober Mörlen Nauheimerstr.18, , 
END:VEVENT
BEGIN:VEVENT
DTSTAMP:20260421T121827
DTSTART;TZID=Europe/Berlin:20260826T093000
DTEND;TZID=Europe/Berlin:20260826T113000
UID:BOM5381-20260826T093000@EFBWETTERAU
SUMMARY:Elterncafé mit Kindern (BOM5381) 
LOCATION:61239 Ober Mörlen Nauheimerstr.18, , 
END:VEVENT
BEGIN:VEVENT
DTSTAMP:20260421T121827
DTSTART;TZID=Europe/Berlin:20260902T093000
DTEND;TZID=Europe/Berlin:20260902T113000
UID:BOM5381-20260902T093000@EFBWETTERAU
SUMMARY:Elterncafé mit Kindern (BOM5381) 
LOCATION:61239 Ober Mörlen Nauheimerstr.18, , 
END:VEVENT
BEGIN:VEVENT
DTSTAMP:20260421T121827
DTSTART;TZID=Europe/Berlin:20260909T093000
DTEND;TZID=Europe/Berlin:20260909T113000
UID:BOM5381-20260909T093000@EFBWETTERAU
SUMMARY:Elterncafé mit Kindern (BOM5381) 
LOCATION:61239 Ober Mörlen Nauheimerstr.18, , 
END:VEVENT
BEGIN:VEVENT
DTSTAMP:20260421T121827
DTSTART;TZID=Europe/Berlin:20260916T093000
DTEND;TZID=Europe/Berlin:20260916T113000
UID:BOM5381-20260916T093000@EFBWETTERAU
SUMMARY:Elterncafé mit Kindern (BOM5381) 
LOCATION:61239 Ober Mörlen Nauheimerstr.18, , 
END:VEVENT
BEGIN:VEVENT
DTSTAMP:20260421T121827
DTSTART;TZID=Europe/Berlin:20260923T093000
DTEND;TZID=Europe/Berlin:20260923T113000
UID:BOM5381-20260923T093000@EFBWETTERAU
SUMMARY:Elterncafé mit Kindern (BOM5381) 
LOCATION:61239 Ober Mörlen Nauheimerstr.18, , 
END:VEVENT
BEGIN:VEVENT
DTSTAMP:20260421T121827
DTSTART;TZID=Europe/Berlin:20260930T093000
DTEND;TZID=Europe/Berlin:20260930T113000
UID:BOM5381-20260930T093000@EFBWETTERAU
SUMMARY:Elterncafé mit Kindern (BOM5381) 
LOCATION:61239 Ober Mörlen Nauheimerstr.18, , 
END:VEVENT
END:VCALENDAR