BEGIN:VCALENDAR
VERSION:2.0
PRODID:https://www.kufer.de/kuferweb / DE
METHOD:PUBLISH
CALSCALE:GREGORIAN
X-WR-TIMEZONE:Europe/Berlin
BEGIN:VTIMEZONE
TZID:Europe/Berlin
X-LIC-LOCATION:Europe/Berlin
BEGIN:DAYLIGHT
TZOFFSETFROM:+0100
TZOFFSETTO:+0200
TZNAME:CEST
DTSTART:19700329T020000
RRULE:FREQ=YEARLY;INTERVAL=1;BYDAY=-1SU;BYMONTH=3
END:DAYLIGHT
BEGIN:STANDARD
TZOFFSETFROM:+0200
TZOFFSETTO:+0100
TZNAME:CET
DTSTART:19701025T030000
RRULE:FREQ=YEARLY;INTERVAL=1;BYDAY=-1SU;BYMONTH=10
END:STANDARD
END:VTIMEZONE
BEGIN:VEVENT
DTSTAMP:20260421T152933
DTSTART;TZID=Europe/Berlin:20261021T093000
DTEND;TZID=Europe/Berlin:20261021T113000
UID:BOM5382-20261021T093000@EFBWETTERAU
SUMMARY:Elterncafé mit Kindern (BOM5382) 
LOCATION:61239 Ober Mörlen Nauheimerstr.18, , 
END:VEVENT
BEGIN:VEVENT
DTSTAMP:20260421T152933
DTSTART;TZID=Europe/Berlin:20261028T093000
DTEND;TZID=Europe/Berlin:20261028T113000
UID:BOM5382-20261028T093000@EFBWETTERAU
SUMMARY:Elterncafé mit Kindern (BOM5382) 
LOCATION:61239 Ober Mörlen Nauheimerstr.18, , 
END:VEVENT
BEGIN:VEVENT
DTSTAMP:20260421T152933
DTSTART;TZID=Europe/Berlin:20261104T093000
DTEND;TZID=Europe/Berlin:20261104T113000
UID:BOM5382-20261104T093000@EFBWETTERAU
SUMMARY:Elterncafé mit Kindern (BOM5382) 
LOCATION:61239 Ober Mörlen Nauheimerstr.18, , 
END:VEVENT
BEGIN:VEVENT
DTSTAMP:20260421T152933
DTSTART;TZID=Europe/Berlin:20261111T093000
DTEND;TZID=Europe/Berlin:20261111T113000
UID:BOM5382-20261111T093000@EFBWETTERAU
SUMMARY:Elterncafé mit Kindern (BOM5382) 
LOCATION:61239 Ober Mörlen Nauheimerstr.18, , 
END:VEVENT
BEGIN:VEVENT
DTSTAMP:20260421T152933
DTSTART;TZID=Europe/Berlin:20261118T093000
DTEND;TZID=Europe/Berlin:20261118T113000
UID:BOM5382-20261118T093000@EFBWETTERAU
SUMMARY:Elterncafé mit Kindern (BOM5382) 
LOCATION:61239 Ober Mörlen Nauheimerstr.18, , 
END:VEVENT
BEGIN:VEVENT
DTSTAMP:20260421T152933
DTSTART;TZID=Europe/Berlin:20261125T093000
DTEND;TZID=Europe/Berlin:20261125T113000
UID:BOM5382-20261125T093000@EFBWETTERAU
SUMMARY:Elterncafé mit Kindern (BOM5382) 
LOCATION:61239 Ober Mörlen Nauheimerstr.18, , 
END:VEVENT
BEGIN:VEVENT
DTSTAMP:20260421T152933
DTSTART;TZID=Europe/Berlin:20261202T093000
DTEND;TZID=Europe/Berlin:20261202T113000
UID:BOM5382-20261202T093000@EFBWETTERAU
SUMMARY:Elterncafé mit Kindern (BOM5382) 
LOCATION:61239 Ober Mörlen Nauheimerstr.18, , 
END:VEVENT
BEGIN:VEVENT
DTSTAMP:20260421T152933
DTSTART;TZID=Europe/Berlin:20261209T093000
DTEND;TZID=Europe/Berlin:20261209T113000
UID:BOM5382-20261209T093000@EFBWETTERAU
SUMMARY:Elterncafé mit Kindern (BOM5382) 
LOCATION:61239 Ober Mörlen Nauheimerstr.18, , 
END:VEVENT
BEGIN:VEVENT
DTSTAMP:20260421T152933
DTSTART;TZID=Europe/Berlin:20261216T093000
DTEND;TZID=Europe/Berlin:20261216T113000
UID:BOM5382-20261216T093000@EFBWETTERAU
SUMMARY:Elterncafé mit Kindern (BOM5382) 
LOCATION:61239 Ober Mörlen Nauheimerstr.18, , 
END:VEVENT
END:VCALENDAR