BEGIN:VCALENDAR
VERSION:2.0
PRODID:https://www.kufer.de/kuferweb / DE
METHOD:PUBLISH
CALSCALE:GREGORIAN
X-WR-TIMEZONE:Europe/Berlin
BEGIN:VTIMEZONE
TZID:Europe/Berlin
X-LIC-LOCATION:Europe/Berlin
BEGIN:DAYLIGHT
TZOFFSETFROM:+0100
TZOFFSETTO:+0200
TZNAME:CEST
DTSTART:19700329T020000
RRULE:FREQ=YEARLY;INTERVAL=1;BYDAY=-1SU;BYMONTH=3
END:DAYLIGHT
BEGIN:STANDARD
TZOFFSETFROM:+0200
TZOFFSETTO:+0100
TZNAME:CET
DTSTART:19701025T030000
RRULE:FREQ=YEARLY;INTERVAL=1;BYDAY=-1SU;BYMONTH=10
END:STANDARD
END:VTIMEZONE
BEGIN:VEVENT
DTSTAMP:20260421T152949
DTSTART;TZID=Europe/Berlin:20260609T160000
DTEND;TZID=Europe/Berlin:20260609T180000
UID:BOM556-20260609T160000@EFBWETTERAU
SUMMARY:Erfolgreich durch den Alltag: Strategien für Eltern von Kindern mit ADHS/Hyperaktivität (BOM556) 
LOCATION:61239 Ober Mörlen Nauheimerstr.18, , 
END:VEVENT
BEGIN:VEVENT
DTSTAMP:20260421T152949
DTSTART;TZID=Europe/Berlin:20260626T160000
DTEND;TZID=Europe/Berlin:20260626T180000
UID:BOM556-20260626T160000@EFBWETTERAU
SUMMARY:Erfolgreich durch den Alltag: Strategien für Eltern von Kindern mit ADHS/Hyperaktivität (BOM556) 
LOCATION:61239 Ober Mörlen Nauheimerstr.18, , 
END:VEVENT
END:VCALENDAR