BEGIN:VCALENDAR
VERSION:2.0
PRODID:https://www.kufer.de/kuferweb / DE
METHOD:PUBLISH
CALSCALE:GREGORIAN
X-WR-TIMEZONE:Europe/Berlin
BEGIN:VTIMEZONE
TZID:Europe/Berlin
X-LIC-LOCATION:Europe/Berlin
BEGIN:DAYLIGHT
TZOFFSETFROM:+0100
TZOFFSETTO:+0200
TZNAME:CEST
DTSTART:19700329T020000
RRULE:FREQ=YEARLY;INTERVAL=1;BYDAY=-1SU;BYMONTH=3
END:DAYLIGHT
BEGIN:STANDARD
TZOFFSETFROM:+0200
TZOFFSETTO:+0100
TZNAME:CET
DTSTART:19701025T030000
RRULE:FREQ=YEARLY;INTERVAL=1;BYDAY=-1SU;BYMONTH=10
END:STANDARD
END:VTIMEZONE
BEGIN:VEVENT
DTSTAMP:20260421T170859
DTSTART;TZID=Europe/Berlin:20261022T150000
DTEND;TZID=Europe/Berlin:20261022T163000
UID:BWOE4782-20261022T150000@EFBWETTERAU
SUMMARY:Tanzen für Senior*innen - Erlebnis Tanz® (BWOE4782) 
LOCATION:Wölfersheim, Wingertstr. 16, Ev. Gemeindehaus, , 
END:VEVENT
BEGIN:VEVENT
DTSTAMP:20260421T170859
DTSTART;TZID=Europe/Berlin:20261029T150000
DTEND;TZID=Europe/Berlin:20261029T163000
UID:BWOE4782-20261029T150000@EFBWETTERAU
SUMMARY:Tanzen für Senior*innen - Erlebnis Tanz® (BWOE4782) 
LOCATION:Wölfersheim, Wingertstr. 16, Ev. Gemeindehaus, , 
END:VEVENT
BEGIN:VEVENT
DTSTAMP:20260421T170859
DTSTART;TZID=Europe/Berlin:20261105T150000
DTEND;TZID=Europe/Berlin:20261105T163000
UID:BWOE4782-20261105T150000@EFBWETTERAU
SUMMARY:Tanzen für Senior*innen - Erlebnis Tanz® (BWOE4782) 
LOCATION:Wölfersheim, Wingertstr. 16, Ev. Gemeindehaus, , 
END:VEVENT
BEGIN:VEVENT
DTSTAMP:20260421T170859
DTSTART;TZID=Europe/Berlin:20261112T150000
DTEND;TZID=Europe/Berlin:20261112T163000
UID:BWOE4782-20261112T150000@EFBWETTERAU
SUMMARY:Tanzen für Senior*innen - Erlebnis Tanz® (BWOE4782) 
LOCATION:Wölfersheim, Wingertstr. 16, Ev. Gemeindehaus, , 
END:VEVENT
BEGIN:VEVENT
DTSTAMP:20260421T170859
DTSTART;TZID=Europe/Berlin:20261119T150000
DTEND;TZID=Europe/Berlin:20261119T163000
UID:BWOE4782-20261119T150000@EFBWETTERAU
SUMMARY:Tanzen für Senior*innen - Erlebnis Tanz® (BWOE4782) 
LOCATION:Wölfersheim, Wingertstr. 16, Ev. Gemeindehaus, , 
END:VEVENT
BEGIN:VEVENT
DTSTAMP:20260421T170859
DTSTART;TZID=Europe/Berlin:20261126T150000
DTEND;TZID=Europe/Berlin:20261126T163000
UID:BWOE4782-20261126T150000@EFBWETTERAU
SUMMARY:Tanzen für Senior*innen - Erlebnis Tanz® (BWOE4782) 
LOCATION:Wölfersheim, Wingertstr. 16, Ev. Gemeindehaus, , 
END:VEVENT
BEGIN:VEVENT
DTSTAMP:20260421T170859
DTSTART;TZID=Europe/Berlin:20261203T150000
DTEND;TZID=Europe/Berlin:20261203T163000
UID:BWOE4782-20261203T150000@EFBWETTERAU
SUMMARY:Tanzen für Senior*innen - Erlebnis Tanz® (BWOE4782) 
LOCATION:Wölfersheim, Wingertstr. 16, Ev. Gemeindehaus, , 
END:VEVENT
BEGIN:VEVENT
DTSTAMP:20260421T170859
DTSTART;TZID=Europe/Berlin:20261210T150000
DTEND;TZID=Europe/Berlin:20261210T163000
UID:BWOE4782-20261210T150000@EFBWETTERAU
SUMMARY:Tanzen für Senior*innen - Erlebnis Tanz® (BWOE4782) 
LOCATION:Wölfersheim, Wingertstr. 16, Ev. Gemeindehaus, , 
END:VEVENT
BEGIN:VEVENT
DTSTAMP:20260421T170859
DTSTART;TZID=Europe/Berlin:20261217T150000
DTEND;TZID=Europe/Berlin:20261217T163000
UID:BWOE4782-20261217T150000@EFBWETTERAU
SUMMARY:Tanzen für Senior*innen - Erlebnis Tanz® (BWOE4782) 
LOCATION:Wölfersheim, Wingertstr. 16, Ev. Gemeindehaus, , 
END:VEVENT
END:VCALENDAR