BEGIN:VCALENDAR
VERSION:2.0
PRODID:https://www.kufer.de/kuferweb / DE
METHOD:PUBLISH
CALSCALE:GREGORIAN
X-WR-TIMEZONE:Europe/Berlin
BEGIN:VTIMEZONE
TZID:Europe/Berlin
X-LIC-LOCATION:Europe/Berlin
BEGIN:DAYLIGHT
TZOFFSETFROM:+0100
TZOFFSETTO:+0200
TZNAME:CEST
DTSTART:19700329T020000
RRULE:FREQ=YEARLY;INTERVAL=1;BYDAY=-1SU;BYMONTH=3
END:DAYLIGHT
BEGIN:STANDARD
TZOFFSETFROM:+0200
TZOFFSETTO:+0100
TZNAME:CET
DTSTART:19701025T030000
RRULE:FREQ=YEARLY;INTERVAL=1;BYDAY=-1SU;BYMONTH=10
END:STANDARD
END:VTIMEZONE
BEGIN:VEVENT
DTSTAMP:20260421T134843
DTSTART;TZID=Europe/Berlin:20261028T160000
DTEND;TZID=Europe/Berlin:20261028T180000
UID:BWOE488-20261028T160000@EFBWETTERAU
SUMMARY:Erfolgreich durch den Alltag: Strategien für Eltern von Kindern mit ADHS/Hyperaktivität (BWOE488) 
LOCATION:Wölfersheim, Wingertstr. 16, Ev. Gemeindehaus, , 
END:VEVENT
BEGIN:VEVENT
DTSTAMP:20260421T134843
DTSTART;TZID=Europe/Berlin:20261117T160000
DTEND;TZID=Europe/Berlin:20261117T180000
UID:BWOE488-20261117T160000@EFBWETTERAU
SUMMARY:Erfolgreich durch den Alltag: Strategien für Eltern von Kindern mit ADHS/Hyperaktivität (BWOE488) 
LOCATION:Wölfersheim, Wingertstr. 16, Ev. Gemeindehaus, , 
END:VEVENT
END:VCALENDAR