BEGIN:VCALENDAR
VERSION:2.0
PRODID:https://www.kufer.de/kuferweb / DE
METHOD:PUBLISH
CALSCALE:GREGORIAN
X-WR-TIMEZONE:Europe/Berlin
BEGIN:VTIMEZONE
TZID:Europe/Berlin
X-LIC-LOCATION:Europe/Berlin
BEGIN:DAYLIGHT
TZOFFSETFROM:+0100
TZOFFSETTO:+0200
TZNAME:CEST
DTSTART:19700329T020000
RRULE:FREQ=YEARLY;INTERVAL=1;BYDAY=-1SU;BYMONTH=3
END:DAYLIGHT
BEGIN:STANDARD
TZOFFSETFROM:+0200
TZOFFSETTO:+0100
TZNAME:CET
DTSTART:19701025T030000
RRULE:FREQ=YEARLY;INTERVAL=1;BYDAY=-1SU;BYMONTH=10
END:STANDARD
END:VTIMEZONE
BEGIN:VEVENT
DTSTAMP:20260421T130645
DTSTART;TZID=Europe/Berlin:20251106T183000
DTEND;TZID=Europe/Berlin:20251106T200000
UID:Y885FZFB-20251106T183000@EFBWETTERAU
SUMMARY:Wir lesen gemeinsam nach der Shared Reading Methode (Y885FZFB) 
LOCATION:Stadtbibliothek, Augustinergasse 8,61169 Friedberg , , 
END:VEVENT
BEGIN:VEVENT
DTSTAMP:20260421T130645
DTSTART;TZID=Europe/Berlin:20251120T183000
DTEND;TZID=Europe/Berlin:20251120T200000
UID:Y885FZFB-20251120T183000@EFBWETTERAU
SUMMARY:Wir lesen gemeinsam nach der Shared Reading Methode (Y885FZFB) 
LOCATION:Stadtbibliothek, Augustinergasse 8,61169 Friedberg , , 
END:VEVENT
BEGIN:VEVENT
DTSTAMP:20260421T130645
DTSTART;TZID=Europe/Berlin:20251204T183000
DTEND;TZID=Europe/Berlin:20251204T200000
UID:Y885FZFB-20251204T183000@EFBWETTERAU
SUMMARY:Wir lesen gemeinsam nach der Shared Reading Methode (Y885FZFB) 
LOCATION:Stadtbibliothek, Augustinergasse 8,61169 Friedberg , , 
END:VEVENT
BEGIN:VEVENT
DTSTAMP:20260421T130645
DTSTART;TZID=Europe/Berlin:20251211T183000
DTEND;TZID=Europe/Berlin:20251211T200000
UID:Y885FZFB-20251211T183000@EFBWETTERAU
SUMMARY:Wir lesen gemeinsam nach der Shared Reading Methode (Y885FZFB) 
LOCATION:Stadtbibliothek, Augustinergasse 8,61169 Friedberg , , 
END:VEVENT
END:VCALENDAR